BEGIN:VCALENDAR
VERSION:2.0
PRODID:-//Trailside Cafe - ECPv6.15.20//NONSGML v1.0//EN
CALSCALE:GREGORIAN
METHOD:PUBLISH
X-ORIGINAL-URL:http://trailsidecafecv.com
X-WR-CALDESC:Events for Trailside Cafe
REFRESH-INTERVAL;VALUE=DURATION:PT1H
X-Robots-Tag:noindex
X-PUBLISHED-TTL:PT1H
BEGIN:VTIMEZONE
TZID:America/Los_Angeles
BEGIN:DAYLIGHT
TZOFFSETFROM:-0800
TZOFFSETTO:-0700
TZNAME:PDT
DTSTART:20250309T100000
END:DAYLIGHT
BEGIN:STANDARD
TZOFFSETFROM:-0700
TZOFFSETTO:-0800
TZNAME:PST
DTSTART:20251102T090000
END:STANDARD
BEGIN:DAYLIGHT
TZOFFSETFROM:-0800
TZOFFSETTO:-0700
TZNAME:PDT
DTSTART:20260308T100000
END:DAYLIGHT
BEGIN:STANDARD
TZOFFSETFROM:-0700
TZOFFSETTO:-0800
TZNAME:PST
DTSTART:20261101T090000
END:STANDARD
BEGIN:DAYLIGHT
TZOFFSETFROM:-0800
TZOFFSETTO:-0700
TZNAME:PDT
DTSTART:20270314T100000
END:DAYLIGHT
BEGIN:STANDARD
TZOFFSETFROM:-0700
TZOFFSETTO:-0800
TZNAME:PST
DTSTART:20271107T090000
END:STANDARD
BEGIN:DAYLIGHT
TZOFFSETFROM:-0800
TZOFFSETTO:-0700
TZNAME:PDT
DTSTART:20280312T100000
END:DAYLIGHT
BEGIN:STANDARD
TZOFFSETFROM:-0700
TZOFFSETTO:-0800
TZNAME:PST
DTSTART:20281105T090000
END:STANDARD
BEGIN:DAYLIGHT
TZOFFSETFROM:-0800
TZOFFSETTO:-0700
TZNAME:PDT
DTSTART:20290311T100000
END:DAYLIGHT
BEGIN:STANDARD
TZOFFSETFROM:-0700
TZOFFSETTO:-0800
TZNAME:PST
DTSTART:20291104T090000
END:STANDARD
BEGIN:DAYLIGHT
TZOFFSETFROM:-0800
TZOFFSETTO:-0700
TZNAME:PDT
DTSTART:20300310T100000
END:DAYLIGHT
BEGIN:STANDARD
TZOFFSETFROM:-0700
TZOFFSETTO:-0800
TZNAME:PST
DTSTART:20301103T090000
END:STANDARD
BEGIN:DAYLIGHT
TZOFFSETFROM:-0800
TZOFFSETTO:-0700
TZNAME:PDT
DTSTART:20310309T100000
END:DAYLIGHT
BEGIN:STANDARD
TZOFFSETFROM:-0700
TZOFFSETTO:-0800
TZNAME:PST
DTSTART:20311102T090000
END:STANDARD
END:VTIMEZONE
BEGIN:VTIMEZONE
TZID:UTC
BEGIN:STANDARD
TZOFFSETFROM:+0000
TZOFFSETTO:+0000
TZNAME:UTC
DTSTART:20250101T000000
END:STANDARD
END:VTIMEZONE
BEGIN:VEVENT
DTSTART;TZID=America/Los_Angeles:20260106T160000
DTEND;TZID=America/Los_Angeles:20300101T210000
DTSTAMP:20260424T072424
CREATED:20250107T042310Z
LAST-MODIFIED:20260114T023452Z
UID:10000043-1767715200-1893531600@trailsidecafecv.com
SUMMARY:Grandma's Meatloaf Special
DESCRIPTION:Just like she used to make!
URL:http://trailsidecafecv.com/event/grandmas-meatloaf-special/
CATEGORIES:Calendar,Weekly Events
ATTACH;FMTTYPE=image/jpeg:http://trailsidecafecv.com/wp-content/uploads/2025/01/IMG_20251208_195308820-scaled.jpg
END:VEVENT
BEGIN:VEVENT
DTSTART;TZID=America/Los_Angeles:20260425T180000
DTEND;TZID=America/Los_Angeles:20260425T210000
DTSTAMP:20260424T072424
CREATED:20250822T204059Z
LAST-MODIFIED:20260214T165211Z
UID:10000880-1777140000-1777150800@trailsidecafecv.com
SUMMARY:BanjerDan Returns
DESCRIPTION:Watch him in the dining room or on the patio\, pending weather.
URL:http://trailsidecafecv.com/event/banjerdan-returns/
CATEGORIES:Live Music,Weekly Events
ATTACH;FMTTYPE=image/png:http://trailsidecafecv.com/wp-content/uploads/2025/08/Screenshot_20250822-144359.png
END:VEVENT
BEGIN:VEVENT
DTSTART;TZID=America/Los_Angeles:20260426T180000
DTEND;TZID=America/Los_Angeles:20260426T210000
DTSTAMP:20260424T072424
CREATED:20250713T184847Z
LAST-MODIFIED:20250713T184847Z
UID:10000659-1777226400-1777237200@trailsidecafecv.com
SUMMARY:Locals Night
DESCRIPTION:10% off your meal from 6-9pm for Locals in the 93920-24 zip codes. Please present ID if we don’t know you.
URL:http://trailsidecafecv.com/event/locals-night/2026-04-26/
CATEGORIES:Weekly Events
ATTACH;FMTTYPE=image/jpeg:http://trailsidecafecv.com/wp-content/uploads/2024/11/map.jpg
END:VEVENT
BEGIN:VEVENT
DTSTART;TZID=UTC:20260427T160000
DTEND;TZID=UTC:20260427T210000
DTSTAMP:20260424T072424
CREATED:20241113T172711Z
LAST-MODIFIED:20260114T022409Z
UID:10000956-1777305600-1777323600@trailsidecafecv.com
SUMMARY:Diego's Rib Night
DESCRIPTION:Come join us for Diego’s Ribs!!
URL:http://trailsidecafecv.com/event/diegos-rib-night-5/2026-04-27/
CATEGORIES:Weekly Events
ATTACH;FMTTYPE=image/jpeg:http://trailsidecafecv.com/wp-content/uploads/2024/11/428655108_988898986193038_5820659480006352608_n.jpg
END:VEVENT
BEGIN:VEVENT
DTSTART;TZID=UTC:20260427T160000
DTEND;TZID=UTC:20260427T210000
DTSTAMP:20260424T072424
CREATED:20250713T184442Z
LAST-MODIFIED:20250713T184442Z
UID:10000395-1777305600-1777323600@trailsidecafecv.com
SUMMARY:Diego's Rib Night
DESCRIPTION:Come join us for Diego’s Ribs!!
URL:http://trailsidecafecv.com/event/diegos-rib-night-4/2026-04-27/
CATEGORIES:Weekly Events
ATTACH;FMTTYPE=image/jpeg:http://trailsidecafecv.com/wp-content/uploads/2024/11/458998276_1125031032579832_8286744028693013372_n.jpg
END:VEVENT
BEGIN:VEVENT
DTSTART;TZID=America/Los_Angeles:20260430T160000
DTEND;TZID=America/Los_Angeles:20260430T210000
DTSTAMP:20260424T072424
CREATED:20250713T171525Z
LAST-MODIFIED:20260114T023132Z
UID:10000104-1777564800-1777582800@trailsidecafecv.com
SUMMARY:Schnitzel Special
DESCRIPTION:Come join us for our popular Pork Schnitzel with Jager Sauce\, from our Oktoberfest menu 4pm-Close Every Thursday Night.
URL:http://trailsidecafecv.com/event/schnitzel-special-3/2026-04-30/
CATEGORIES:Weekly Events
ATTACH;FMTTYPE=image/jpeg:http://trailsidecafecv.com/wp-content/uploads/2025/07/IMG_20251001_124614401-scaled.jpg
END:VEVENT
END:VCALENDAR